BEGIN:VCALENDAR
VERSION:2.0
PRODID:-//PTTK Oddział w Raciborzu - ECPv6.15.20//NONSGML v1.0//EN
CALSCALE:GREGORIAN
METHOD:PUBLISH
X-ORIGINAL-URL:https://raciborz.pttk.pl
X-WR-CALDESC:Wydarzenia dla PTTK Oddział w Raciborzu
REFRESH-INTERVAL;VALUE=DURATION:PT1H
X-Robots-Tag:noindex
X-PUBLISHED-TTL:PT1H
BEGIN:VTIMEZONE
TZID:Europe/Warsaw
BEGIN:DAYLIGHT
TZOFFSETFROM:+0100
TZOFFSETTO:+0200
TZNAME:CEST
DTSTART:20240331T010000
END:DAYLIGHT
BEGIN:STANDARD
TZOFFSETFROM:+0200
TZOFFSETTO:+0100
TZNAME:CET
DTSTART:20241027T010000
END:STANDARD
BEGIN:DAYLIGHT
TZOFFSETFROM:+0100
TZOFFSETTO:+0200
TZNAME:CEST
DTSTART:20250330T010000
END:DAYLIGHT
BEGIN:STANDARD
TZOFFSETFROM:+0200
TZOFFSETTO:+0100
TZNAME:CET
DTSTART:20251026T010000
END:STANDARD
BEGIN:DAYLIGHT
TZOFFSETFROM:+0100
TZOFFSETTO:+0200
TZNAME:CEST
DTSTART:20260329T010000
END:DAYLIGHT
BEGIN:STANDARD
TZOFFSETFROM:+0200
TZOFFSETTO:+0100
TZNAME:CET
DTSTART:20261025T010000
END:STANDARD
END:VTIMEZONE
BEGIN:VEVENT
DTSTART;VALUE=DATE:20250301
DTEND;VALUE=DATE:20250302
DTSTAMP:20260420T090814
CREATED:20241218T214248Z
LAST-MODIFIED:20241221T152958Z
UID:6979-1740787200-1740873599@raciborz.pttk.pl
SUMMARY:70 – LECIE ODDZIAŁU PTTK RACIBÓRZ
DESCRIPTION:Rodzaj imprezy: Spotkanie\nIlość uczestników: 30\n\nAndrzej Kuśnierz  tel. 608 442 739
URL:https://raciborz.pttk.pl/wydarzenie/2025/70-lecie-oddzialu-pttk-raciborz/
CATEGORIES:Kalendarz imprez
END:VEVENT
BEGIN:VEVENT
DTSTART;VALUE=DATE:20250308
DTEND;VALUE=DATE:20250309
DTSTAMP:20260420T090814
CREATED:20241221T152959Z
LAST-MODIFIED:20250206T184604Z
UID:7985-1741392000-1741478399@raciborz.pttk.pl
SUMMARY:BOCHNIA I KRAKÓW
DESCRIPTION:Rodzaj imprezy: Spotkanie\nIlość uczestników: 30\n\nZdzisława Musioł tel. 510 929 617
URL:https://raciborz.pttk.pl/wydarzenie/2025/bochnia-i-krakow/
END:VEVENT
BEGIN:VEVENT
DTSTART;VALUE=DATE:20250321
DTEND;VALUE=DATE:20250322
DTSTAMP:20260420T090814
CREATED:20241221T153011Z
LAST-MODIFIED:20250103T181627Z
UID:7987-1742515200-1742601599@raciborz.pttk.pl
SUMMARY:53 RAJD - POWITANIE WIOSNY DLA DZIECI I MŁODZIEŻY
DESCRIPTION:Rodzaj imprezy: Spotkanie\nIlość uczestników: 30\n\nZygmunt Kobylak tel. 662 587 410
URL:https://raciborz.pttk.pl/wydarzenie/2025/53-rajd-powitanie-wiosny-dla-dzieci-i-mlodziezy/
END:VEVENT
BEGIN:VEVENT
DTSTART;VALUE=DATE:20250322
DTEND;VALUE=DATE:20250323
DTSTAMP:20260420T090814
CREATED:20241221T153022Z
LAST-MODIFIED:20250214T214616Z
UID:7989-1742601600-1742687999@raciborz.pttk.pl
SUMMARY:KŁODZKA GÓRA I BISKUPIA KOPA
DESCRIPTION:Rodzaj imprezy: Spotkanie\nIlość uczestników: 30\n\nAndrzej Kuśnierz tel. 608 442 739
URL:https://raciborz.pttk.pl/wydarzenie/2025/klodzka-gora-i-biskupia-kopa/
END:VEVENT
BEGIN:VEVENT
DTSTART;VALUE=DATE:20250405
DTEND;VALUE=DATE:20250407
DTSTAMP:20260420T090814
CREATED:20241221T153033Z
LAST-MODIFIED:20250304T211018Z
UID:7991-1743811200-1743983999@raciborz.pttk.pl
SUMMARY:WARSZAWA
DESCRIPTION:Rodzaj imprezy: Spotkanie\nIlość uczestników: 30\n\nAndrzej Kuśnierz tel. 608 442 739
URL:https://raciborz.pttk.pl/wydarzenie/2025/warszawa/
END:VEVENT
BEGIN:VEVENT
DTSTART;VALUE=DATE:20250426
DTEND;VALUE=DATE:20250427
DTSTAMP:20260420T090814
CREATED:20241221T153039Z
LAST-MODIFIED:20250313T143922Z
UID:7993-1745625600-1745711999@raciborz.pttk.pl
SUMMARY:PRADZIAD
DESCRIPTION:Rodzaj imprezy: Spotkanie\nIlość uczestników: 30\n\nAndrzej Kuśnierz tel. 608 442 739
URL:https://raciborz.pttk.pl/wydarzenie/2025/pradziad/
END:VEVENT
BEGIN:VEVENT
DTSTART;VALUE=DATE:20250426
DTEND;VALUE=DATE:20250427
DTSTAMP:20260420T090814
CREATED:20241221T153048Z
LAST-MODIFIED:20250408T152845Z
UID:7995-1745625600-1745711999@raciborz.pttk.pl
SUMMARY:ŚLADAMI EICHENDORFFA
DESCRIPTION:Rodzaj imprezy: Spotkanie\nIlość uczestników: 30\n\nBugla Roman tel. 508 765 674
URL:https://raciborz.pttk.pl/wydarzenie/2025/sladami-eichendorffa/
END:VEVENT
BEGIN:VEVENT
DTSTART;VALUE=DATE:20250510
DTEND;VALUE=DATE:20250511
DTSTAMP:20260420T090814
CREATED:20241221T153059Z
LAST-MODIFIED:20250415T171128Z
UID:7997-1746835200-1746921599@raciborz.pttk.pl
SUMMARY:8 RODZINNY SPACEROWY RAJD ROWEROWY PO ZIEMI RACIBORSKIEJ "Śladami Obrońców Granic "
DESCRIPTION:Rodzaj imprezy: Spotkanie\nIlość uczestników: 30\n\nAndrzej Kuśnierz tel. 608 442 739
URL:https://raciborz.pttk.pl/wydarzenie/2025/8-rodzinny-spacerowy-rajd-rowerowy-po-ziemi-raciborskiej-sladami-obroncow-granic/
END:VEVENT
BEGIN:VEVENT
DTSTART;VALUE=DATE:20250517
DTEND;VALUE=DATE:20250519
DTSTAMP:20260420T090814
CREATED:20241221T153109Z
LAST-MODIFIED:20250403T130440Z
UID:7999-1747440000-1747612799@raciborz.pttk.pl
SUMMARY:WYSOKA KOPA I SKOPIEC
DESCRIPTION:Rodzaj imprezy: Spotkanie\nIlość uczestników: 30\n\nAndrzej Kuśnierz tel. 608 442 739
URL:https://raciborz.pttk.pl/wydarzenie/2025/wysoka-kopa-i-skopiec/
CATEGORIES:Kalendarz imprez
END:VEVENT
BEGIN:VEVENT
DTSTART;VALUE=DATE:20250524
DTEND;VALUE=DATE:20250525
DTSTAMP:20260420T090814
CREATED:20241221T153113Z
LAST-MODIFIED:20250514T141609Z
UID:8001-1748044800-1748131199@raciborz.pttk.pl
SUMMARY:PRZEWODNIK CZEKA
DESCRIPTION:Rodzaj imprezy: Spotkanie\nIlość uczestników: 30\n\nStanisław Żółciński tel. 506 704 540
URL:https://raciborz.pttk.pl/wydarzenie/2025/przewodnik-czeka/
CATEGORIES:Kalendarz imprez
END:VEVENT
BEGIN:VEVENT
DTSTART;VALUE=DATE:20250531
DTEND;VALUE=DATE:20250601
DTSTAMP:20260420T090814
CREATED:20241221T153119Z
LAST-MODIFIED:20250401T163326Z
UID:8003-1748649600-1748735999@raciborz.pttk.pl
SUMMARY:ZOO SAFARI W CZECHACH
DESCRIPTION:Rodzaj imprezy: Spotkanie\nIlość uczestników: 30\n\nAndrzej Kuśnierz tel. 608 442 739
URL:https://raciborz.pttk.pl/wydarzenie/2025/zoo-safari-w-czechach/
CATEGORIES:Kalendarz imprez
END:VEVENT
BEGIN:VEVENT
DTSTART;VALUE=DATE:20250607
DTEND;VALUE=DATE:20250608
DTSTAMP:20260420T090814
CREATED:20241221T153124Z
LAST-MODIFIED:20250513T143651Z
UID:8005-1749254400-1749340799@raciborz.pttk.pl
SUMMARY:POCHODZENIE POETY J. von EICHENDORFFA
DESCRIPTION:Rodzaj imprezy: Spotkanie\nIlość uczestników: 30\n\nBugla Roman tel. 508 765 674
URL:https://raciborz.pttk.pl/wydarzenie/2025/pochodzenie-poety-j-von-eichendorffa/
CATEGORIES:Kalendarz imprez
END:VEVENT
BEGIN:VEVENT
DTSTART;VALUE=DATE:20250614
DTEND;VALUE=DATE:20250616
DTSTAMP:20260420T090814
CREATED:20241221T153135Z
LAST-MODIFIED:20250521T154041Z
UID:8007-1749859200-1750031999@raciborz.pttk.pl
SUMMARY:TORUŃ I ŁÓDŹ
DESCRIPTION:Rodzaj imprezy: Spotkanie\nIlość uczestników: 30\n\nAndrzej Kuśnierz tel. 608 442 739
URL:https://raciborz.pttk.pl/wydarzenie/2025/torun-i-lodz/
CATEGORIES:Kalendarz imprez
END:VEVENT
BEGIN:VEVENT
DTSTART;VALUE=DATE:20250622
DTEND;VALUE=DATE:20250629
DTSTAMP:20260420T090814
CREATED:20241221T153139Z
LAST-MODIFIED:20241221T154007Z
UID:8009-1750550400-1751155199@raciborz.pttk.pl
SUMMARY:WIZYTA W NIEMCZECH
DESCRIPTION:Rodzaj imprezy: Spotkanie\nIlość uczestników: 30\n\nAndrzej Kuśnierz tel. 608 442 739
URL:https://raciborz.pttk.pl/wydarzenie/2025/wizyta-w-niemczech/
CATEGORIES:Kalendarz imprez
END:VEVENT
BEGIN:VEVENT
DTSTART;VALUE=DATE:20250629
DTEND;VALUE=DATE:20250630
DTSTAMP:20260420T090814
CREATED:20241221T153143Z
LAST-MODIFIED:20250612T173901Z
UID:8011-1751155200-1751241599@raciborz.pttk.pl
SUMMARY:BABIA GÓRA
DESCRIPTION:Rodzaj imprezy: Spotkanie\nIlość uczestników: 30\n\nAndrzej Kuśnierz tel. 608 442 739
URL:https://raciborz.pttk.pl/wydarzenie/2025/babia-gora/
CATEGORIES:Kalendarz imprez
END:VEVENT
BEGIN:VEVENT
DTSTART;VALUE=DATE:20250704
DTEND;VALUE=DATE:20250707
DTSTAMP:20260420T090814
CREATED:20241221T153150Z
LAST-MODIFIED:20250605T145453Z
UID:8013-1751587200-1751846399@raciborz.pttk.pl
SUMMARY:PRZYJAZNA GRANICA
DESCRIPTION:Rodzaj imprezy: Spotkanie\nIlość uczestników: 30\n\nJarosław Chacko tel. 664 471 075
URL:https://raciborz.pttk.pl/wydarzenie/2025/przyjazna-granica/
CATEGORIES:Kalendarz imprez
END:VEVENT
BEGIN:VEVENT
DTSTART;VALUE=DATE:20250712
DTEND;VALUE=DATE:20250713
DTSTAMP:20260420T090814
CREATED:20241221T153156Z
LAST-MODIFIED:20250630T072112Z
UID:8015-1752278400-1752364799@raciborz.pttk.pl
SUMMARY:PRZEWODNIK CZEKA
DESCRIPTION:Rodzaj imprezy: Spotkanie\nIlość uczestników: 30\n\nStanisław Żółciński tel. 506 704 540
URL:https://raciborz.pttk.pl/wydarzenie/2025/przewodnik-czeka-2/
CATEGORIES:Kalendarz imprez
END:VEVENT
BEGIN:VEVENT
DTSTART;VALUE=DATE:20250719
DTEND;VALUE=DATE:20250720
DTSTAMP:20260420T090814
CREATED:20241221T153218Z
LAST-MODIFIED:20250630T074015Z
UID:8017-1752883200-1752969599@raciborz.pttk.pl
SUMMARY:ŚNIEŻKA
DESCRIPTION:Rodzaj imprezy: Spotkanie\nIlość uczestników: 30\n\nAndrzej Kuśnierz tel. 608 442 739
URL:https://raciborz.pttk.pl/wydarzenie/2025/sniezka/
CATEGORIES:Kalendarz imprez
END:VEVENT
BEGIN:VEVENT
DTSTART;VALUE=DATE:20250726
DTEND;VALUE=DATE:20250727
DTSTAMP:20260420T090814
CREATED:20241221T153229Z
LAST-MODIFIED:20250710T171524Z
UID:8019-1753488000-1753574399@raciborz.pttk.pl
SUMMARY:CZTERY WIEŻE
DESCRIPTION:Rodzaj imprezy: Spotkanie\nIlość uczestników: 30\n\nArtur Katolik tel. 727 634 573
URL:https://raciborz.pttk.pl/wydarzenie/2025/cztery-wieze/
CATEGORIES:Kalendarz imprez
END:VEVENT
BEGIN:VEVENT
DTSTART;VALUE=DATE:20250726
DTEND;VALUE=DATE:20250728
DTSTAMP:20260420T090814
CREATED:20241221T153235Z
LAST-MODIFIED:20250706T164843Z
UID:8021-1753488000-1753660799@raciborz.pttk.pl
SUMMARY:POZNAŃ\, BISKUPIN\, GNIEZNO
DESCRIPTION:Rodzaj imprezy: Spotkanie\nIlość uczestników: 30\n\nZdzisława Musioł tel. 510 929 617
URL:https://raciborz.pttk.pl/wydarzenie/2025/poznan-biskupin-gniezno/
CATEGORIES:Kalendarz imprez
END:VEVENT
BEGIN:VEVENT
DTSTART;VALUE=DATE:20250816
DTEND;VALUE=DATE:20250817
DTSTAMP:20260420T090814
CREATED:20241221T153246Z
LAST-MODIFIED:20250717T201140Z
UID:8023-1755302400-1755388799@raciborz.pttk.pl
SUMMARY:ŚNIEŻNIK
DESCRIPTION:Rodzaj imprezy: Spotkanie\nIlość uczestników: 30\n\nAndrzej Kuśnierz tel. 608 442 739
URL:https://raciborz.pttk.pl/wydarzenie/2025/snieznik/
CATEGORIES:Kalendarz imprez
END:VEVENT
BEGIN:VEVENT
DTSTART;VALUE=DATE:20250829
DTEND;VALUE=DATE:20250901
DTSTAMP:20260420T090814
CREATED:20241221T153256Z
LAST-MODIFIED:20250720T163010Z
UID:8025-1756425600-1756684799@raciborz.pttk.pl
SUMMARY:CUDA CERAMIKI
DESCRIPTION:Rodzaj imprezy: Spotkanie\nIlość uczestników: 30\n\nM. i A. Żurkowscy tel. 602 531 517
URL:https://raciborz.pttk.pl/wydarzenie/2025/cuda-ceramiki/
CATEGORIES:Kalendarz imprez
END:VEVENT
BEGIN:VEVENT
DTSTART;VALUE=DATE:20250830
DTEND;VALUE=DATE:20250901
DTSTAMP:20260420T090814
CREATED:20241221T153315Z
LAST-MODIFIED:20250728T180918Z
UID:8027-1756512000-1756684799@raciborz.pttk.pl
SUMMARY:JURA KRAKOWSKO - CZĘSTOCHOWSKA
DESCRIPTION:Rodzaj imprezy: Spotkanie\nIlość uczestników: 30\n\nZdzisława Musioł tel. 510 929 617
URL:https://raciborz.pttk.pl/wydarzenie/2025/jura-krakowsko-czestochowska/
CATEGORIES:Kalendarz imprez
END:VEVENT
BEGIN:VEVENT
DTSTART;VALUE=DATE:20250906
DTEND;VALUE=DATE:20250907
DTSTAMP:20260420T090814
CREATED:20241221T153322Z
LAST-MODIFIED:20250730T152743Z
UID:8029-1757116800-1757203199@raciborz.pttk.pl
SUMMARY:HRABIA LICHNOWSKY
DESCRIPTION:Rodzaj imprezy: Spotkanie\nIlość uczestników: 30\n\nBugla Roman tel. 508 765 674
URL:https://raciborz.pttk.pl/wydarzenie/2025/hrabia-lichnowsky/
CATEGORIES:Kalendarz imprez
END:VEVENT
BEGIN:VEVENT
DTSTART;VALUE=DATE:20250913
DTEND;VALUE=DATE:20250914
DTSTAMP:20260420T090814
CREATED:20241221T153328Z
LAST-MODIFIED:20250731T173405Z
UID:8031-1757721600-1757807999@raciborz.pttk.pl
SUMMARY:ZAMEK KSIĄŻ I SKLANE MIASTO  ADRŠPACH
DESCRIPTION:Rodzaj imprezy: Spotkanie\nIlość uczestników: 30\n\nAndrzej Kuśnierz tel. 608 442 739
URL:https://raciborz.pttk.pl/wydarzenie/2025/zamek-ksiaz-i-sklane-miasto-adrspach/
CATEGORIES:Kalendarz imprez
END:VEVENT
BEGIN:VEVENT
DTSTART;VALUE=DATE:20250919
DTEND;VALUE=DATE:20250920
DTSTAMP:20260420T090814
CREATED:20241221T153334Z
LAST-MODIFIED:20241221T153946Z
UID:8033-1758240000-1758326399@raciborz.pttk.pl
SUMMARY:58 RAJD HUSARII PO ZIEMI RACIBORSKIEJ
DESCRIPTION:Rodzaj imprezy: Spotkanie\nIlość uczestników: 30\n\nZygmunt Kobylak tel. 506 704 540
URL:https://raciborz.pttk.pl/wydarzenie/2025/58-rajd-husarii-po-ziemi-raciborskiej/
CATEGORIES:Kalendarz imprez
END:VEVENT
BEGIN:VEVENT
DTSTART;VALUE=DATE:20250920
DTEND;VALUE=DATE:20250921
DTSTAMP:20260420T090814
CREATED:20241221T153342Z
LAST-MODIFIED:20241221T153945Z
UID:8035-1758326400-1758412799@raciborz.pttk.pl
SUMMARY:PRZEWODNIK CZEKA
DESCRIPTION:Rodzaj imprezy: Spotkanie\nIlość uczestników: 30\n\nStanisław Żółciński tel. 506 704 540
URL:https://raciborz.pttk.pl/wydarzenie/2025/przewodnik-czeka-3/
CATEGORIES:Kalendarz imprez
END:VEVENT
BEGIN:VEVENT
DTSTART;VALUE=DATE:20250927
DTEND;VALUE=DATE:20250929
DTSTAMP:20260420T090814
CREATED:20241221T153351Z
LAST-MODIFIED:20250826T160506Z
UID:8037-1758931200-1759103999@raciborz.pttk.pl
SUMMARY:BIESZCZADY
DESCRIPTION:Rodzaj imprezy: Spotkanie\nIlość uczestników: 30\n\nAndrzej Kuśnierz tel. 608 442 739
URL:https://raciborz.pttk.pl/wydarzenie/2025/bieszczady/
CATEGORIES:Kalendarz imprez
END:VEVENT
BEGIN:VEVENT
DTSTART;VALUE=DATE:20251004
DTEND;VALUE=DATE:20251005
DTSTAMP:20260420T090814
CREATED:20241221T153358Z
LAST-MODIFIED:20250929T162551Z
UID:8039-1759536000-1759622399@raciborz.pttk.pl
SUMMARY:ZAKOŃCZENIE SEZONU KOLARSKIEGO
DESCRIPTION:Rodzaj imprezy: Spotkanie\nIlość uczestników: 30\n\nJarosław Chacko tel. 664 471 075
URL:https://raciborz.pttk.pl/wydarzenie/2025/zakonczenie-sezonu-kolarskiego/
CATEGORIES:Kalendarz imprez
END:VEVENT
BEGIN:VEVENT
DTSTART;VALUE=DATE:20251011
DTEND;VALUE=DATE:20251013
DTSTAMP:20260420T090814
CREATED:20241221T153403Z
LAST-MODIFIED:20250929T162258Z
UID:8041-1760140800-1760313599@raciborz.pttk.pl
SUMMARY:WYSOKA I REDYK W SZCZAWNICY
DESCRIPTION:Rodzaj imprezy: Spotkanie\nIlość uczestników: 30\n\nZdzisława Musioł tel. 510 929 617
URL:https://raciborz.pttk.pl/wydarzenie/2025/wysoka-i-redyk-w-szczawnicy/
CATEGORIES:Kalendarz imprez
END:VEVENT
END:VCALENDAR