BEGIN:VCALENDAR
VERSION:2.0
PRODID:-//PTTK Oddział w Raciborzu - ECPv6.15.20//NONSGML v1.0//EN
CALSCALE:GREGORIAN
METHOD:PUBLISH
X-ORIGINAL-URL:https://raciborz.pttk.pl
X-WR-CALDESC:Wydarzenia dla PTTK Oddział w Raciborzu
REFRESH-INTERVAL;VALUE=DURATION:PT1H
X-Robots-Tag:noindex
X-PUBLISHED-TTL:PT1H
BEGIN:VTIMEZONE
TZID:Europe/Warsaw
BEGIN:DAYLIGHT
TZOFFSETFROM:+0100
TZOFFSETTO:+0200
TZNAME:CEST
DTSTART:20240331T010000
END:DAYLIGHT
BEGIN:STANDARD
TZOFFSETFROM:+0200
TZOFFSETTO:+0100
TZNAME:CET
DTSTART:20241027T010000
END:STANDARD
BEGIN:DAYLIGHT
TZOFFSETFROM:+0100
TZOFFSETTO:+0200
TZNAME:CEST
DTSTART:20250330T010000
END:DAYLIGHT
BEGIN:STANDARD
TZOFFSETFROM:+0200
TZOFFSETTO:+0100
TZNAME:CET
DTSTART:20251026T010000
END:STANDARD
BEGIN:DAYLIGHT
TZOFFSETFROM:+0100
TZOFFSETTO:+0200
TZNAME:CEST
DTSTART:20260329T010000
END:DAYLIGHT
BEGIN:STANDARD
TZOFFSETFROM:+0200
TZOFFSETTO:+0100
TZNAME:CET
DTSTART:20261025T010000
END:STANDARD
END:VTIMEZONE
BEGIN:VEVENT
DTSTART;VALUE=DATE:20250405
DTEND;VALUE=DATE:20250407
DTSTAMP:20260420T033758
CREATED:20241221T153033Z
LAST-MODIFIED:20250304T211018Z
UID:7991-1743811200-1743983999@raciborz.pttk.pl
SUMMARY:WARSZAWA
DESCRIPTION:Rodzaj imprezy: Spotkanie\nIlość uczestników: 30\n\nAndrzej Kuśnierz tel. 608 442 739
URL:https://raciborz.pttk.pl/wydarzenie/2025/warszawa/
END:VEVENT
BEGIN:VEVENT
DTSTART;VALUE=DATE:20250426
DTEND;VALUE=DATE:20250427
DTSTAMP:20260420T033758
CREATED:20241221T153039Z
LAST-MODIFIED:20250313T143922Z
UID:7993-1745625600-1745711999@raciborz.pttk.pl
SUMMARY:PRADZIAD
DESCRIPTION:Rodzaj imprezy: Spotkanie\nIlość uczestników: 30\n\nAndrzej Kuśnierz tel. 608 442 739
URL:https://raciborz.pttk.pl/wydarzenie/2025/pradziad/
END:VEVENT
BEGIN:VEVENT
DTSTART;VALUE=DATE:20250426
DTEND;VALUE=DATE:20250427
DTSTAMP:20260420T033758
CREATED:20241221T153048Z
LAST-MODIFIED:20250408T152845Z
UID:7995-1745625600-1745711999@raciborz.pttk.pl
SUMMARY:ŚLADAMI EICHENDORFFA
DESCRIPTION:Rodzaj imprezy: Spotkanie\nIlość uczestników: 30\n\nBugla Roman tel. 508 765 674
URL:https://raciborz.pttk.pl/wydarzenie/2025/sladami-eichendorffa/
END:VEVENT
END:VCALENDAR