BEGIN:VCALENDAR
VERSION:2.0
PRODID:-//PTTK Oddział w Raciborzu - ECPv6.15.20//NONSGML v1.0//EN
CALSCALE:GREGORIAN
METHOD:PUBLISH
X-WR-CALNAME:PTTK Oddział w Raciborzu
X-ORIGINAL-URL:https://raciborz.pttk.pl
X-WR-CALDESC:Wydarzenia dla PTTK Oddział w Raciborzu
REFRESH-INTERVAL;VALUE=DURATION:PT1H
X-Robots-Tag:noindex
X-PUBLISHED-TTL:PT1H
BEGIN:VTIMEZONE
TZID:Europe/Warsaw
BEGIN:DAYLIGHT
TZOFFSETFROM:+0100
TZOFFSETTO:+0200
TZNAME:CEST
DTSTART:20240331T010000
END:DAYLIGHT
BEGIN:STANDARD
TZOFFSETFROM:+0200
TZOFFSETTO:+0100
TZNAME:CET
DTSTART:20241027T010000
END:STANDARD
BEGIN:DAYLIGHT
TZOFFSETFROM:+0100
TZOFFSETTO:+0200
TZNAME:CEST
DTSTART:20250330T010000
END:DAYLIGHT
BEGIN:STANDARD
TZOFFSETFROM:+0200
TZOFFSETTO:+0100
TZNAME:CET
DTSTART:20251026T010000
END:STANDARD
BEGIN:DAYLIGHT
TZOFFSETFROM:+0100
TZOFFSETTO:+0200
TZNAME:CEST
DTSTART:20260329T010000
END:DAYLIGHT
BEGIN:STANDARD
TZOFFSETFROM:+0200
TZOFFSETTO:+0100
TZNAME:CET
DTSTART:20261025T010000
END:STANDARD
END:VTIMEZONE
BEGIN:VEVENT
DTSTART;VALUE=DATE:20250510
DTEND;VALUE=DATE:20250511
DTSTAMP:20260420T020208
CREATED:20241221T153059Z
LAST-MODIFIED:20250415T171128Z
UID:7997-1746835200-1746921599@raciborz.pttk.pl
SUMMARY:8 RODZINNY SPACEROWY RAJD ROWEROWY PO ZIEMI RACIBORSKIEJ "Śladami Obrońców Granic "
DESCRIPTION:Rodzaj imprezy: Spotkanie\nIlość uczestników: 30\n\nAndrzej Kuśnierz tel. 608 442 739
URL:https://raciborz.pttk.pl/wydarzenie/2025/8-rodzinny-spacerowy-rajd-rowerowy-po-ziemi-raciborskiej-sladami-obroncow-granic/
END:VEVENT
BEGIN:VEVENT
DTSTART;VALUE=DATE:20250517
DTEND;VALUE=DATE:20250519
DTSTAMP:20260420T020208
CREATED:20241221T153109Z
LAST-MODIFIED:20250403T130440Z
UID:7999-1747440000-1747612799@raciborz.pttk.pl
SUMMARY:WYSOKA KOPA I SKOPIEC
DESCRIPTION:Rodzaj imprezy: Spotkanie\nIlość uczestników: 30\n\nAndrzej Kuśnierz tel. 608 442 739
URL:https://raciborz.pttk.pl/wydarzenie/2025/wysoka-kopa-i-skopiec/
CATEGORIES:Kalendarz imprez
END:VEVENT
BEGIN:VEVENT
DTSTART;VALUE=DATE:20250524
DTEND;VALUE=DATE:20250525
DTSTAMP:20260420T020208
CREATED:20241221T153113Z
LAST-MODIFIED:20250514T141609Z
UID:8001-1748044800-1748131199@raciborz.pttk.pl
SUMMARY:PRZEWODNIK CZEKA
DESCRIPTION:Rodzaj imprezy: Spotkanie\nIlość uczestników: 30\n\nStanisław Żółciński tel. 506 704 540
URL:https://raciborz.pttk.pl/wydarzenie/2025/przewodnik-czeka/
CATEGORIES:Kalendarz imprez
END:VEVENT
BEGIN:VEVENT
DTSTART;VALUE=DATE:20250531
DTEND;VALUE=DATE:20250601
DTSTAMP:20260420T020208
CREATED:20241221T153119Z
LAST-MODIFIED:20250401T163326Z
UID:8003-1748649600-1748735999@raciborz.pttk.pl
SUMMARY:ZOO SAFARI W CZECHACH
DESCRIPTION:Rodzaj imprezy: Spotkanie\nIlość uczestników: 30\n\nAndrzej Kuśnierz tel. 608 442 739
URL:https://raciborz.pttk.pl/wydarzenie/2025/zoo-safari-w-czechach/
CATEGORIES:Kalendarz imprez
END:VEVENT
END:VCALENDAR